Workbook

Sheet List1
A1: =[1]Data_01!B3&" - grafy výtěžnosti " -> Obec Jiřice - grafy výtěžnosti
A2: =[1]Data_04_Výtěžnost!A1 -> 04-01 Výtěžnost obce [kg/obyv./rok] z posledního dodaného výkazu + předchozí 4 Q
A3: =[1]Data_04_Výtěžnost!A2 -> Období | B3: =[1]Data_04_Výtěžnost!B2 -> Papír | C3: =[1]Data_04_Výtěžnost!C2 -> Plast | D3: =[1]Data_04_Výtěžnost!D2 -> Sklo celkem | E3: =[1]Data_04_Výtěžnost!E2 -> NK | F3: =[1]Data_04_Výtěžnost!F2 -> Kov | G3: =[1]Data_04_Výtěžnost!G2 -> SKO | H3: =[1]Data_04_Výtěžnost!H2 -> Dřevo
A4: =[1]Data_04_Výtěžnost!A3 -> 2023Q2 | B4: =[1]Data_04_Výtěžnost!B3 -> 21.589743 | C4: =[1]Data_04_Výtěžnost!C3 -> 27.666666 | D4: =[1]Data_04_Výtěžnost!D3 -> 27.961538 | E4: =[1]Data_04_Výtěžnost!E3 -> 0.551282 | F4: =[1]Data_04_Výtěžnost!F3 -> 1.307692 | G4: =[1]Data_04_Výtěžnost!G3 -> 277.30769 | H4: =[1]Data_04_Výtěžnost!H3 -> 0
A5: =[1]Data_04_Výtěžnost!A4 -> 2023Q3 | B5: =[1]Data_04_Výtěžnost!B4 -> 22.846153 | C5: =[1]Data_04_Výtěžnost!C4 -> 22.282051 | D5: =[1]Data_04_Výtěžnost!D4 -> 27.307692 | E5: =[1]Data_04_Výtěžnost!E4 -> 0.692307 | F5: =[1]Data_04_Výtěžnost!F4 -> 2.910256 | G5: =[1]Data_04_Výtěžnost!G4 -> 270.64103 | H5: =[1]Data_04_Výtěžnost!H4 -> 0
A6: =[1]Data_04_Výtěžnost!A5 -> 2023Q4 | B6: =[1]Data_04_Výtěžnost!B5 -> 22.641025 | C6: =[1]Data_04_Výtěžnost!C5 -> 24.115384 | D6: =[1]Data_04_Výtěžnost!D5 -> 20.76923 | E6: =[1]Data_04_Výtěžnost!E5 -> 0.487179 | F6: =[1]Data_04_Výtěžnost!F5 -> 0.820512 | G6: =[1]Data_04_Výtěžnost!G5 -> 297.17949 | H6: =[1]Data_04_Výtěžnost!H5 -> 0
A7: =[1]Data_04_Výtěžnost!A6 -> 2024Q1 | B7: =[1]Data_04_Výtěžnost!B6 -> 22.473846 | C7: =[1]Data_04_Výtěžnost!C6 -> 24.947692 | D7: =[1]Data_04_Výtěžnost!D6 -> 22.301538 | E7: =[1]Data_04_Výtěžnost!E6 -> 0.750769 | F7: =[1]Data_04_Výtěžnost!F6 -> 2.116923 | G7: =[1]Data_04_Výtěžnost!G6 -> 260.8 | H7: =[1]Data_04_Výtěžnost!H6 -> 0
A8: =[1]Data_04_Výtěžnost!A7 -> 2024Q2 | B8: =[1]Data_04_Výtěžnost!B7 -> 22.043076 | C8: =[1]Data_04_Výtěžnost!C7 -> 28.233846 | D8: =[1]Data_04_Výtěžnost!D7 -> 24.664615 | E8: =[1]Data_04_Výtěžnost!E7 -> 0.541538 | F8: =[1]Data_04_Výtěžnost!F7 -> 0.873846 | G8: =[1]Data_04_Výtěžnost!G7 -> 270.27692 | H8: =[1]Data_04_Výtěžnost!H7 -> 0
A25: =[1]Data_04_Výtěžnost!$A$9 -> 04-02 Výtěžnost obce [kg/obyv./rok] za poslední uzavřený rok 2023 ve srovnání s velikostními skupinami
A26: =[1]Data_04_Výtěžnost!B10 -> Skupina | B26: =[1]Data_04_Výtěžnost!C10 -> Papír | C26: =[1]Data_04_Výtěžnost!D10 -> Plast | D26: =[1]Data_04_Výtěžnost!E10 -> Sklo celkem | E26: =[1]Data_04_Výtěžnost!F10 -> NK | F26: =[1]Data_04_Výtěžnost!G10 -> Kov | G26: =[1]Data_04_Výtěžnost!H10 -> SKO | H26: =[1]Data_04_Výtěžnost!I10 -> Dřevo
A27: =[1]Data_04_Výtěžnost!B11 -> Obec Jiřice | B27: =[1]Data_04_Výtěžnost!C11 -> 22.128205 | C27: =[1]Data_04_Výtěžnost!D11 -> 23.849358 | D27: =[1]Data_04_Výtěžnost!E11 -> 24.945512 | E27: =[1]Data_04_Výtěžnost!F11 -> 0.589743 | F27: =[1]Data_04_Výtěžnost!G11 -> 1.721153 | G27: =[1]Data_04_Výtěžnost!H11 -> 267.85256 | H27: =[1]Data_04_Výtěžnost!I11 -> 0
A28: =[1]Data_04_Výtěžnost!B12 -> vel.skupina 0 - 1000 | B28: =[1]Data_04_Výtěžnost!C12 -> 16.589664 | C28: =[1]Data_04_Výtěžnost!D12 -> 21.8151 | D28: =[1]Data_04_Výtěžnost!E12 -> 16.979544 | E28: =[1]Data_04_Výtěžnost!F12 -> 0.439557 | F28: =[1]Data_04_Výtěžnost!G12 -> 5.540175 | G28: =[1]Data_04_Výtěžnost!H12 -> 195.90542 | H28: =[1]Data_04_Výtěžnost!I12 -> 1.101041
A29: =[1]Data_04_Výtěžnost!B13 -> Středočeský | B29: =[1]Data_04_Výtěžnost!C13 -> 22.661712 | C29: =[1]Data_04_Výtěžnost!D13 -> 20.987379 | D29: =[1]Data_04_Výtěžnost!E13 -> 15.685712 | E29: =[1]Data_04_Výtěžnost!F13 -> 0.451493 | F29: =[1]Data_04_Výtěžnost!G13 -> 4.006273 | G29: =[1]Data_04_Výtěžnost!H13 -> 200.10226 | H29: =[1]Data_04_Výtěžnost!I13 -> 2.9252
A30: =[1]Data_04_Výtěžnost!B14 -> ORP Lysá nad Labem | B30: =[1]Data_04_Výtěžnost!C14 -> 18.774416 | C30: =[1]Data_04_Výtěžnost!D14 -> 14.576682 | D30: =[1]Data_04_Výtěžnost!E14 -> 11.223214 | E30: =[1]Data_04_Výtěžnost!F14 -> 0.64739 | F30: =[1]Data_04_Výtěžnost!G14 -> 2.109203 | G30: =[1]Data_04_Výtěžnost!H14 -> 192.04423 | H30: =[1]Data_04_Výtěžnost!I14 -> 20.169642
A31: =[1]Data_04_Výtěžnost!B15 -> ČR | B31: =[1]Data_04_Výtěžnost!C15 -> 21.356448 | C31: =[1]Data_04_Výtěžnost!D15 -> 17.056665 | D31: =[1]Data_04_Výtěžnost!E15 -> 14.649703 | E31: =[1]Data_04_Výtěžnost!F15 -> 0.410055 | F31: =[1]Data_04_Výtěžnost!G15 -> 12.262779 | G31: =[1]Data_04_Výtěžnost!H15 -> 180.87306 | H31: =[1]Data_04_Výtěžnost!I15 -> 5.335163
A51: =[1]Data_04_Výtěžnost!$A$17 -> 04-03 Výtěžnost obce [kg/obyv./rok] z výkazu za období 2024Q1 ve srovnání s velikostními skupinami
A52: =[1]Data_04_Výtěžnost!B18 -> Skupina | B52: =[1]Data_04_Výtěžnost!C18 -> Papír | C52: =[1]Data_04_Výtěžnost!D18 -> Plast | D52: =[1]Data_04_Výtěžnost!E18 -> Sklo celkem | E52: =[1]Data_04_Výtěžnost!F18 -> NK | F52: =[1]Data_04_Výtěžnost!G18 -> Kov | G52: =[1]Data_04_Výtěžnost!H18 -> SKO | H52: =[1]Data_04_Výtěžnost!I18 -> Dřevo
A53: =[1]Data_04_Výtěžnost!B19 -> Obec Jiřice | B53: =[1]Data_04_Výtěžnost!C19 -> 22.473846 | C53: =[1]Data_04_Výtěžnost!D19 -> 24.947692 | D53: =[1]Data_04_Výtěžnost!E19 -> 22.301538 | E53: =[1]Data_04_Výtěžnost!F19 -> 0.750769 | F53: =[1]Data_04_Výtěžnost!G19 -> 2.116923 | G53: =[1]Data_04_Výtěžnost!H19 -> 260.8 | H53: =[1]Data_04_Výtěžnost!I19 -> 0
A54: =[1]Data_04_Výtěžnost!B20 -> vel.skupina 0 - 1000 | B54: =[1]Data_04_Výtěžnost!C20 -> 16.038776 | C54: =[1]Data_04_Výtěžnost!D20 -> 20.533207 | D54: =[1]Data_04_Výtěžnost!E20 -> 17.476676 | E54: =[1]Data_04_Výtěžnost!F20 -> 0.455636 | F54: =[1]Data_04_Výtěžnost!G20 -> 4.122507 | G54: =[1]Data_04_Výtěžnost!H20 -> 200.92848 | H54: =[1]Data_04_Výtěžnost!I20 -> 1.354822
A55: =[1]Data_04_Výtěžnost!B21 -> Středočeský | B55: =[1]Data_04_Výtěžnost!C21 -> 21.72338 | C55: =[1]Data_04_Výtěžnost!D21 -> 19.647971 | D55: =[1]Data_04_Výtěžnost!E21 -> 16.30832 | E55: =[1]Data_04_Výtěžnost!F21 -> 0.466201 | F55: =[1]Data_04_Výtěžnost!G21 -> 3.451206 | G55: =[1]Data_04_Výtěžnost!H21 -> 197.51648 | H55: =[1]Data_04_Výtěžnost!I21 -> 2.81481
A56: =[1]Data_04_Výtěžnost!B22 -> ORP Lysá nad Labem | B56: =[1]Data_04_Výtěžnost!C22 -> 18.241598 | C56: =[1]Data_04_Výtěžnost!D22 -> 15.891869 | D56: =[1]Data_04_Výtěžnost!E22 -> 12.607723 | E56: =[1]Data_04_Výtěžnost!F22 -> 0.595257 | F56: =[1]Data_04_Výtěžnost!G22 -> 1.249051 | G56: =[1]Data_04_Výtěžnost!H22 -> 184.78726 | H56: =[1]Data_04_Výtěžnost!I22 -> 6.410569
A57: =[1]Data_04_Výtěžnost!B23 -> ČR | B57: =[1]Data_04_Výtěžnost!C23 -> 21.24887 | C57: =[1]Data_04_Výtěžnost!D23 -> 16.503598 | D57: =[1]Data_04_Výtěžnost!E23 -> 15.371854 | E57: =[1]Data_04_Výtěžnost!F23 -> 0.375996 | F57: =[1]Data_04_Výtěžnost!G23 -> 10.673482 | G57: =[1]Data_04_Výtěžnost!H23 -> 179.66069 | H57: =[1]Data_04_Výtěžnost!I23 -> 5.988607
A77: =[1]Data_04_Výtěžnost!$A$25 -> 04-04 Výtěžnost obce [kg/obyv./rok] z posledního dodaného výkazu + předchozích 7 Q
A78: =[1]Data_04_Výtěžnost!A26 -> Období | B78: =[1]Data_04_Výtěžnost!B26 -> Papír | C78: =[1]Data_04_Výtěžnost!C26 -> Plast | D78: =[1]Data_04_Výtěžnost!D26 -> Sklo celkem | E78: =[1]Data_04_Výtěžnost!E26 -> NK | F78: =[1]Data_04_Výtěžnost!F26 -> Kov | G78: =[1]Data_04_Výtěžnost!G26 -> SKO | H78: =[1]Data_04_Výtěžnost!H26 -> Dřevo
A79: =[1]Data_04_Výtěžnost!A27 -> 2022Q3 | B79: =[1]Data_04_Výtěžnost!B27 -> 24 | C79: =[1]Data_04_Výtěžnost!C27 -> 23.234899 | D79: =[1]Data_04_Výtěžnost!D27 -> 31.637583 | E79: =[1]Data_04_Výtěžnost!E27 -> 0.67114 | F79: =[1]Data_04_Výtěžnost!F27 -> 2.147651 | G79: =[1]Data_04_Výtěžnost!G27 -> 289.5302 | H79: =[1]Data_04_Výtěžnost!H27 -> 0
A80: =[1]Data_04_Výtěžnost!A28 -> 2022Q4 | B80: =[1]Data_04_Výtěžnost!B28 -> 25.865771 | C80: =[1]Data_04_Výtěžnost!C28 -> 22.724832 | D80: =[1]Data_04_Výtěžnost!D28 -> 23.248322 | E80: =[1]Data_04_Výtěžnost!E28 -> 0.483221 | F80: =[1]Data_04_Výtěžnost!F28 -> 0.684563 | G80: =[1]Data_04_Výtěžnost!G28 -> 278.92617 | H80: =[1]Data_04_Výtěžnost!H28 -> 0
A81: =[1]Data_04_Výtěžnost!A29 -> 2023Q1 | B81: =[1]Data_04_Výtěžnost!B29 -> 21.435897 | C81: =[1]Data_04_Výtěžnost!C29 -> 21.333333 | D81: =[1]Data_04_Výtěžnost!D29 -> 23.743589 | E81: =[1]Data_04_Výtěžnost!E29 -> 0.628205 | F81: =[1]Data_04_Výtěžnost!F29 -> 1.846153 | G81: =[1]Data_04_Výtěžnost!G29 -> 226.28205 | H81: =[1]Data_04_Výtěžnost!H29 -> 0
A82: =[1]Data_04_Výtěžnost!A30 -> 2023Q2 | B82: =[1]Data_04_Výtěžnost!B30 -> 21.589743 | C82: =[1]Data_04_Výtěžnost!C30 -> 27.666666 | D82: =[1]Data_04_Výtěžnost!D30 -> 27.961538 | E82: =[1]Data_04_Výtěžnost!E30 -> 0.551282 | F82: =[1]Data_04_Výtěžnost!F30 -> 1.307692 | G82: =[1]Data_04_Výtěžnost!G30 -> 277.30769 | H82: =[1]Data_04_Výtěžnost!H30 -> 0
A83: =[1]Data_04_Výtěžnost!A31 -> 2023Q3 | B83: =[1]Data_04_Výtěžnost!B31 -> 22.846153 | C83: =[1]Data_04_Výtěžnost!C31 -> 22.282051 | D83: =[1]Data_04_Výtěžnost!D31 -> 27.307692 | E83: =[1]Data_04_Výtěžnost!E31 -> 0.692307 | F83: =[1]Data_04_Výtěžnost!F31 -> 2.910256 | G83: =[1]Data_04_Výtěžnost!G31 -> 270.64103 | H83: =[1]Data_04_Výtěžnost!H31 -> 0
A84: =[1]Data_04_Výtěžnost!A32 -> 2023Q4 | B84: =[1]Data_04_Výtěžnost!B32 -> 22.641025 | C84: =[1]Data_04_Výtěžnost!C32 -> 24.115384 | D84: =[1]Data_04_Výtěžnost!D32 -> 20.76923 | E84: =[1]Data_04_Výtěžnost!E32 -> 0.487179 | F84: =[1]Data_04_Výtěžnost!F32 -> 0.820512 | G84: =[1]Data_04_Výtěžnost!G32 -> 297.17949 | H84: =[1]Data_04_Výtěžnost!H32 -> 0
A85: =[1]Data_04_Výtěžnost!A33 -> 2024Q1 | B85: =[1]Data_04_Výtěžnost!B33 -> 22.473846 | C85: =[1]Data_04_Výtěžnost!C33 -> 24.947692 | D85: =[1]Data_04_Výtěžnost!D33 -> 22.301538 | E85: =[1]Data_04_Výtěžnost!E33 -> 0.750769 | F85: =[1]Data_04_Výtěžnost!F33 -> 2.116923 | G85: =[1]Data_04_Výtěžnost!G33 -> 260.8 | H85: =[1]Data_04_Výtěžnost!H33 -> 0
A86: =[1]Data_04_Výtěžnost!A34 -> 2024Q2 | B86: =[1]Data_04_Výtěžnost!B34 -> 22.043076 | C86: =[1]Data_04_Výtěžnost!C34 -> 28.233846 | D86: =[1]Data_04_Výtěžnost!D34 -> 24.664615 | E86: =[1]Data_04_Výtěžnost!E34 -> 0.541538 | F86: =[1]Data_04_Výtěžnost!F34 -> 0.873846 | G86: =[1]Data_04_Výtěžnost!G34 -> 270.27692 | H86: =[1]Data_04_Výtěžnost!H34 -> 0
